BEGIN:VCALENDAR
VERSION:2.0
PRODID:-//Institute of Directors - Ghana - ECPv6.15.20//NONSGML v1.0//EN
CALSCALE:GREGORIAN
METHOD:PUBLISH
X-ORIGINAL-URL:https://iodghana.org
X-WR-CALDESC:Events for Institute of Directors - Ghana
REFRESH-INTERVAL;VALUE=DURATION:PT1H
X-Robots-Tag:noindex
X-PUBLISHED-TTL:PT1H
BEGIN:VTIMEZONE
TZID:UTC
BEGIN:STANDARD
TZOFFSETFROM:+0000
TZOFFSETTO:+0000
TZNAME:UTC
DTSTART:20210101T000000
END:STANDARD
END:VTIMEZONE
BEGIN:VEVENT
DTSTART;TZID=UTC:20220210T090000
DTEND;TZID=UTC:20220210T120000
DTSTAMP:20260423T193925
CREATED:20220206T135024Z
LAST-MODIFIED:20220207T105620Z
UID:32498-1644483600-1644494400@iodghana.org
SUMMARY:Formation of Institute of Directors in Liberia
DESCRIPTION:The African Corporate Governance Network (ACGN) in collaboration with Africabio’s Executive Round Table and Women on Boards Network\, Liberia (WOBNL) specially invite you to a hybrid Stakeholders Conference for the Formation of Institute of Directors in Liberia \nRegister Now\nhttps://cutt.ly/iod-liberia-formation
URL:https://iodghana.org/event/formation-of-institute-of-directors-in-liberia/
LOCATION:Hybrid Event (Mamba Point Hotel\, Liberia and Webinar)\, Mamba Point Hotel\, Monrovia\, Liberia
CATEGORIES:ACGN Events
ATTACH;FMTTYPE=image/jpeg:https://iodghana.org/wp-content/uploads/2022/02/ACGN-FORMATION-OF-INSTITUTE-OF-DIRECTORS-IN-LIBERIA-Final-2.jpg
END:VEVENT
END:VCALENDAR