BEGIN:VCALENDAR
VERSION:2.0
PRODID:-//Institute of Directors - Ghana - ECPv6.15.20//NONSGML v1.0//EN
CALSCALE:GREGORIAN
METHOD:PUBLISH
X-ORIGINAL-URL:https://iodghana.org
X-WR-CALDESC:Events for Institute of Directors - Ghana
REFRESH-INTERVAL;VALUE=DURATION:PT1H
X-Robots-Tag:noindex
X-PUBLISHED-TTL:PT1H
BEGIN:VTIMEZONE
TZID:UTC
BEGIN:STANDARD
TZOFFSETFROM:+0000
TZOFFSETTO:+0000
TZNAME:UTC
DTSTART:20220101T000000
END:STANDARD
END:VTIMEZONE
BEGIN:VTIMEZONE
TZID:Africa/Accra
BEGIN:STANDARD
TZOFFSETFROM:+0000
TZOFFSETTO:+0000
TZNAME:GMT
DTSTART:20210101T000000
END:STANDARD
END:VTIMEZONE
BEGIN:VEVENT
DTSTART;TZID=UTC:20240829T160000
DTEND;TZID=UTC:20240829T173000
DTSTAMP:20260423T173430
CREATED:20240807T164751Z
LAST-MODIFIED:20240807T164751Z
UID:36650-1724947200-1724952600@iodghana.org
SUMMARY:18th Annual General Meeting (AGM)
DESCRIPTION:AGENDA \n\nTo receive and adopt the Reports of the Directors\, Auditors and the Financial Statements for the year ended 31st December 2023.\nTo authorize Council to fix the remuneration of the Auditors.\nTo transact any other business.
URL:https://iodghana.org/event/18th-annual-general-meeting-agm/
LOCATION:Virtual Meeting
CATEGORIES:Annual General Meeting
END:VEVENT
BEGIN:VEVENT
DTSTART;TZID=UTC:20240806T090000
DTEND;TZID=UTC:20240806T130000
DTSTAMP:20260423T173430
CREATED:20240807T063357Z
LAST-MODIFIED:20240807T063420Z
UID:36598-1722934800-1722949200@iodghana.org
SUMMARY:Masterclass on Leadership in Sustainability
DESCRIPTION:Activities: Leadership in Sustainability : Building the Capacity and Empowering Board of Directors and Executives to Champion ESG Initiatives \nSpeakers: \nMr. Moez Miaoui; Environmental\, Social and Governance Advisory Lead\, North and West Africa \nMs. Catherine Engmann \nMs. Damilola Sobo \n 
URL:https://iodghana.org/event/masterclass-on-leadership-in-sustainability/
LOCATION:IFC Conference Room\, World Bank Building\, Accra\, Ghana
CATEGORIES:Annual General Meeting
ATTACH;FMTTYPE=image/jpeg:https://iodghana.org/wp-content/uploads/2024/08/August-2024.jpg
END:VEVENT
BEGIN:VEVENT
DTSTART;TZID=UTC:20240228T090000
DTEND;TZID=UTC:20240228T130000
DTSTAMP:20260423T173430
CREATED:20240223T061759Z
LAST-MODIFIED:20240223T062426Z
UID:35497-1709110800-1709125200@iodghana.org
SUMMARY:Masterclass on Empowering Companies for Tomorrows Success
DESCRIPTION:Activities: Empowering Companies for Tomorrows Success \nKey takeaways include:1. Board’s ESG Role: Understand the strategic significance of ESG and the Board’s critical role in oversight and integration into corporate strategy.2. ESG Readiness: Tools and frameworks to evaluate your Board’s preparedness in handling ESG matters\, including skills assessment and stakeholder engagement.3. Climate Governance: Insights into the Board’s responsibilities in managing climate-related risks and opportunities\, and aligning with a low-carbon economy transition. \nThis three-hour masterclass is designed to transform your approach to business sustainability\, ensuring you’re not just compliant but also competitive in a world where ESG factors are paramount. \nSpeakers: \nMr. Moez Miaoui; Environmental\, Social and Governance Advisory Lead\, North and West Africa \nMs. Catherine Engmann \nMs. Damilola Sobo \n 
URL:https://iodghana.org/event/masterclass-on-empowering-companies-for-tomorrows-success/
LOCATION:IFC Conference Room\, World Bank Building\, Accra\, Ghana
CATEGORIES:Annual General Meeting
ATTACH;FMTTYPE=image/jpeg:https://iodghana.org/wp-content/uploads/2024/02/IMG-20240223-WA0015.jpg
END:VEVENT
BEGIN:VEVENT
DTSTART;TZID=UTC:20231031T130000
DTEND;TZID=UTC:20231031T150000
DTSTAMP:20260423T173430
CREATED:20231102T025246Z
LAST-MODIFIED:20231102T025252Z
UID:35296-1698757200-1698764400@iodghana.org
SUMMARY:IoD-Gh Special Capacity Building Session - Pink October
DESCRIPTION:Activities: The Changing Landscape of Women in Leadership: Leading in a Volatile\, Uncertain\, Complex and Ambiguous (VUCA) Vortex. \nSpeaker: Dr. Olu AjayiChief Executive Officer\, Maddison Pine
URL:https://iodghana.org/event/iod-gh-special-capacity-building-session-pink-october/
LOCATION:Virtual Meeting
CATEGORIES:Annual General Meeting,E-Seminar Series
ATTACH;FMTTYPE=image/jpeg:https://iodghana.org/wp-content/uploads/2023/09/Pink-Oct.jpg
END:VEVENT
BEGIN:VEVENT
DTSTART;TZID=UTC:20230926T190000
DTEND;TZID=UTC:20230926T200000
DTSTAMP:20260423T173430
CREATED:20230923T104656Z
LAST-MODIFIED:20231102T025045Z
UID:34946-1695754800-1695758400@iodghana.org
SUMMARY:IoD-Gh Fellows' Roundtable Discussion
DESCRIPTION:Activities: Roundtable Discussion \nThe Strategy Playbook
URL:https://iodghana.org/event/iod-gh-fellows-roundtable-discussion/
LOCATION:Virtual Meeting
CATEGORIES:Annual General Meeting,E-Seminar Series
ATTACH;FMTTYPE=image/jpeg:https://iodghana.org/wp-content/uploads/2023/09/Fellows-Roundtable-Discussion.jpg
END:VEVENT
BEGIN:VEVENT
DTSTART;TZID=UTC:20230914T083000
DTEND;TZID=UTC:20230914T120000
DTSTAMP:20260423T173430
CREATED:20230906T030236Z
LAST-MODIFIED:20230906T030701Z
UID:34537-1694680200-1694692800@iodghana.org
SUMMARY:IoD-Gh Stakeholders' Engagement Meeting
DESCRIPTION:Activities: Launch of Implementation Phase of the National Corporate Governance Code. \nLaunch of the 6th IoD-Gh Directors’ Conference and Corporate Governance Excellence Awards. \nInduction of Candidates Into Membership.
URL:https://iodghana.org/event/iod-gh-stakeholders-engagement-meeting/
LOCATION:Hybrid Event (Best Western Premier Accra Airport Hotel)
CATEGORIES:Annual General Meeting
ATTACH;FMTTYPE=image/jpeg:https://iodghana.org/wp-content/uploads/2023/09/Stakeholders-engagement.jpg
END:VEVENT
BEGIN:VEVENT
DTSTART;TZID=Africa/Accra:20220308T160000
DTEND;TZID=Africa/Accra:20220308T160000
DTSTAMP:20260423T173430
CREATED:20220221T075733Z
LAST-MODIFIED:20220221T075742Z
UID:32528-1646755200-1646755200@iodghana.org
SUMMARY:16th Annual General Meeting
DESCRIPTION:Notice is hereby given that the 16th Annual General Meeting of the members of the Institute of Directors-Ghana will be held as follows: \nDate:          Tuesday\, 8th March\, 2022 \nTime:          1600hrs  \nMedium:    Virtual (via Zoom) \n			\n			\n				\n				\n				\n				\n			\n				\n				\n				\n				\n				\n				\n				Learn More
URL:https://iodghana.org/event/16th-annual-general-meeting/
LOCATION:Virtual Meeting
CATEGORIES:Annual General Meeting
ATTACH;FMTTYPE=image/jpeg:https://iodghana.org/wp-content/uploads/2019/11/IoD-events-header.jpg
END:VEVENT
END:VCALENDAR