BEGIN:VCALENDAR
VERSION:2.0
PRODID:-//Institute of Directors - Ghana - ECPv6.15.20//NONSGML v1.0//EN
CALSCALE:GREGORIAN
METHOD:PUBLISH
X-WR-CALNAME:Institute of Directors - Ghana
X-ORIGINAL-URL:https://iodghana.org
X-WR-CALDESC:Events for Institute of Directors - Ghana
REFRESH-INTERVAL;VALUE=DURATION:PT1H
X-Robots-Tag:noindex
X-PUBLISHED-TTL:PT1H
BEGIN:VTIMEZONE
TZID:UTC
BEGIN:STANDARD
TZOFFSETFROM:+0000
TZOFFSETTO:+0000
TZNAME:UTC
DTSTART:20210101T000000
END:STANDARD
END:VTIMEZONE
BEGIN:VEVENT
DTSTART;TZID=UTC:20231031T130000
DTEND;TZID=UTC:20231031T150000
DTSTAMP:20260423T184401
CREATED:20231102T025246Z
LAST-MODIFIED:20231102T025252Z
UID:35296-1698757200-1698764400@iodghana.org
SUMMARY:IoD-Gh Special Capacity Building Session - Pink October
DESCRIPTION:Activities: The Changing Landscape of Women in Leadership: Leading in a Volatile\, Uncertain\, Complex and Ambiguous (VUCA) Vortex. \nSpeaker: Dr. Olu AjayiChief Executive Officer\, Maddison Pine
URL:https://iodghana.org/event/iod-gh-special-capacity-building-session-pink-october/
LOCATION:Virtual Meeting
CATEGORIES:Annual General Meeting,E-Seminar Series
ATTACH;FMTTYPE=image/jpeg:https://iodghana.org/wp-content/uploads/2023/09/Pink-Oct.jpg
END:VEVENT
BEGIN:VEVENT
DTSTART;TZID=UTC:20230926T190000
DTEND;TZID=UTC:20230926T200000
DTSTAMP:20260423T184401
CREATED:20230923T104656Z
LAST-MODIFIED:20231102T025045Z
UID:34946-1695754800-1695758400@iodghana.org
SUMMARY:IoD-Gh Fellows' Roundtable Discussion
DESCRIPTION:Activities: Roundtable Discussion \nThe Strategy Playbook
URL:https://iodghana.org/event/iod-gh-fellows-roundtable-discussion/
LOCATION:Virtual Meeting
CATEGORIES:Annual General Meeting,E-Seminar Series
ATTACH;FMTTYPE=image/jpeg:https://iodghana.org/wp-content/uploads/2023/09/Fellows-Roundtable-Discussion.jpg
END:VEVENT
BEGIN:VEVENT
DTSTART;TZID=UTC:20220331T130000
DTEND;TZID=UTC:20220331T143000
DTSTAMP:20260423T184401
CREATED:20220324T130328Z
LAST-MODIFIED:20220324T130437Z
UID:32560-1648731600-1648737000@iodghana.org
SUMMARY:IoD-Gh March 2022 E-seminar
DESCRIPTION:IoD-Gh presents an exclusive e-seminar on the topic: \nTHE ROLE OF FRAUD\, FORENSIC ACCOUNTING\, AND FORENSIC AUDITING IN CORPORATE GOVERNANCE \nMain Speaker: Prof. John Bright Kobla Aheto (FIoD)\,\nChair\, IoD-Gh ECDR C’TTEE\n			\n				Register Now
URL:https://iodghana.org/event/iod-gh-march-2022-e-seminar/
LOCATION:Virtual Meeting
CATEGORIES:E-Seminar Series
ATTACH;FMTTYPE=image/jpeg:https://iodghana.org/wp-content/uploads/2022/03/IoD-Gh-E-seminar-March-2022.jpg
END:VEVENT
END:VCALENDAR